Workbook

Sheet Sheet1
A1: Staff Holiday Calculator | B1: For holiday year 1st October 2026 to 30th September 2027
A3: Please note that MyView will automatically calculate your annual leave entitlement based on your contract, please use this form if you would like to manually calculate your holiday entitlement.
A5: These hours may differ slightly as MyView may round up to the nearest half hour during calculations.
A8: Terms & Conditions | D8: Mandatory
A9: Status
A11: Working Pattern
A13: Monday | D13: Enter your daily hours or zero if non working day
A14: Tuesday | D14: NB: Full time weekly hours for grades 1-6 are 36.5 (7.3 per day)
A15: Wednesday | D15: NB: Full time weekly hours for grades 7-10 are 37.5 (7.5 per day)
A16: Thursday | D16: NB: Full time weekly hours for Clincial staff are 40 (8 per day)
A17: Friday
A18: Total | B18: =SUM(B13:B17) -> 0
A20: From | D20: NB: The holiday year runs from 1/10 (or put start date if later)
A21: To | D21: NB: The holiday year ends on 30/09 (or put end date if earlier)
A22: Total days | B22: =Sheet2!C20 -> 1
A24: Total Entitlement
A25: Full time entitlement in hours for a full year | B25: =VLOOKUP(B8,Sheet2!B1:H8,7,FALSE) -> #N/A
A26: Your Total Entitlement | B26: =CEILING(IF(B8="Faculty (teaching and library)",Sheet2!E26*Sheet2!C26*3,(VLOOKUP(B8,Sheet2!B:H,7,FALSE)/365*Sheet2!C20)/Sheet2!C23*Sheet1!B18),0.5) -> #N/A | D26: This is based on the number of full time entitlement to annual leave, bank holidays and minimum service days and pro rata for your hours and number of days worked in this year.
A27: =IF(B8="Faculty (teaching and library)","MSD Taken","MSD/BH Taken") -> MSD/BH Taken | B27: =Sheet2!N21 -> 0 | D27: Hours to be booked on the bank holidays and minimum service days based on the above work pattern.
A28: Bookable Leave | B28: =B26-B27 -> #N/A | D28: Please note that this is a guide, MyView may round to the nearest half hour

Sheet Sheet2
B1: Contract | C1: Hol | D1: Norm MSD | E1: Norm BH | F1: Add. MSD | G1: Add. BH | H1: Total | K1: Bank hoidays and minimum service days falling within the current holiday year
A2: 7.5 | B2: Grade 7-10 | C2: =7.5*24 -> 180 | D2: =7.5*6 -> 45 | E2: 60 | H2: =SUM(C2:G2) -> 285
A3: 8 | B3: Clinical | C3: =24*8 -> 192 | D3: =8*6 -> 48 | E3: =8*8 -> 64 | H3: =SUM(C3:G3) -> 304
A4: 8 | B4: Clinical (7 years service) | C4: =26*8 -> 208 | D4: =8*6 -> 48 | E4: =8*8 -> 64 | H4: =SUM(C4:G4) -> 320
A5: 7.3 | B5: Clerical (G1-6), less than 3 years service | C5: =7.3*20 -> 146 | D5: =7.3*6 -> 43.8 | E5: =7.3*8 -> 58.4 | H5: =SUM(C5:G5) -> 248.2
A6: 7.3 | B6: Clerical (G1-6), 3 years service | C6: =7.3*21 -> 153.3 | D6: =7.3*6 -> 43.8 | E6: =7.3*8 -> 58.4 | H6: =SUM(C6:G6) -> 255.5 | K6: Winter closure | L6: 46380 | M6: MSD | N6: =IF(AND(Sheet1!$A$27="MSD Taken",M6="BH"),0,(IF(AND(L6>=Sheet1!$B$20,L6<=Sheet1!$B$21),VLOOKUP(O6,Sheet1!$A$13:$B$17,2,FALSE),0))) -> 0 | O6: Thursday
A7: 7.3 | B7: Clerical (G1-6), 4 years service | C7: =7.3*22 -> 160.6 | D7: =7.3*6 -> 43.8 | E7: =7.3*8 -> 58.4 | H7: =SUM(C7:G7) -> 262.8 | K7: Winter closure | L7: 46381 | M7: BH | N7: =IF(AND(Sheet1!$A$27="MSD Taken",M7="BH"),0,(IF(AND(L7>=Sheet1!$B$20,L7<=Sheet1!$B$21),VLOOKUP(O7,Sheet1!$A$13:$B$17,2,FALSE),0))) -> 0 | O7: Friday
A8: 7.3 | B8: Clerical (G1-6), 5 years service | C8: =7.3*23 -> 167.9 | D8: =7.3*6 -> 43.8 | E8: =7.3*8 -> 58.4 | H8: =SUM(C8:G8) -> 270.1 | K8: Winter closure | L8: 46384 | M8: BH | N8: =IF(AND(Sheet1!$A$27="MSD Taken",M8="BH"),0,(IF(AND(L8>=Sheet1!$B$20,L8<=Sheet1!$B$21),VLOOKUP(O8,Sheet1!$A$13:$B$17,2,FALSE),0))) -> 0 | O8: Monday
K9: Winter closure | L9: 46385 | M9: MSD | N9: =IF(AND(Sheet1!$A$27="MSD Taken",M9="BH"),0,(IF(AND(L9>=Sheet1!$B$20,L9<=Sheet1!$B$21),VLOOKUP(O9,Sheet1!$A$13:$B$17,2,FALSE),0))) -> 0 | O9: Tuesday
K10: Winter closure | L10: 46386 | M10: MSD | N10: =IF(AND(Sheet1!$A$27="MSD Taken",M10="BH"),0,(IF(AND(L10>=Sheet1!$B$20,L10<=Sheet1!$B$21),VLOOKUP(O10,Sheet1!$A$13:$B$17,2,FALSE),0))) -> 0 | O10: Wednesday
K11: Winter closure | L11: 46387 | M11: MSD | N11: =IF(AND(Sheet1!$A$27="MSD Taken",M11="BH"),0,(IF(AND(L11>=Sheet1!$B$20,L11<=Sheet1!$B$21),VLOOKUP(O11,Sheet1!$A$13:$B$17,2,FALSE),0))) -> 0 | O11: Thursday
K12: Winter closure | L12: 46388 | M12: BH | N12: =IF(AND(Sheet1!$A$27="MSD Taken",M12="BH"),0,(IF(AND(L12>=Sheet1!$B$20,L12<=Sheet1!$B$21),VLOOKUP(O12,Sheet1!$A$13:$B$17,2,FALSE),0))) -> 0 | O12: Friday
K13: Easter Closure | L13: 46471 | M13: MSD | N13: =IF(AND(Sheet1!$A$27="MSD Taken",M13="BH"),0,(IF(AND(L13>=Sheet1!$B$20,L13<=Sheet1!$B$21),VLOOKUP(O13,Sheet1!$A$13:$B$17,2,FALSE),0))) -> 0 | O13: =TEXT(L13,"dddd") -> Thursday
C14: Terms | K14: Easter Closure | L14: 46472 | M14: BH | N14: =IF(AND(Sheet1!$A$27="MSD Taken",M14="BH"),0,(IF(AND(L14>=Sheet1!$B$20,L14<=Sheet1!$B$21),VLOOKUP(O14,Sheet1!$A$13:$B$17,2,FALSE),0))) -> 0 | O14: =TEXT(L14,"dddd") -> Friday
C15: Full Time | K15: Easter Closure | L15: 46475 | M15: BH | N15: =IF(AND(Sheet1!$A$27="MSD Taken",M15="BH"),0,(IF(AND(L15>=Sheet1!$B$20,L15<=Sheet1!$B$21),VLOOKUP(O15,Sheet1!$A$13:$B$17,2,FALSE),0))) -> 0 | O15: =TEXT(L15,"dddd") -> Monday
C16: Part Time | K16: Easter Closure | L16: 46476 | M16: MSD | N16: =IF(AND(Sheet1!$A$27="MSD Taken",M16="BH"),0,(IF(AND(L16>=Sheet1!$B$20,L16<=Sheet1!$B$21),VLOOKUP(O16,Sheet1!$A$13:$B$17,2,FALSE),0))) -> 0 | O16: =TEXT(L16,"dddd") -> Tuesday
K17: May Bank Holiday | L17: 46510 | M17: BH | N17: =IF(AND(Sheet1!$A$27="MSD Taken",M17="BH"),0,(IF(AND(L17>=Sheet1!$B$20,L17<=Sheet1!$B$21),VLOOKUP(O17,Sheet1!$A$13:$B$17,2,FALSE),0))) -> 0 | O17: =TEXT(L17,"dddd") -> Monday
C19: Days worked | K19: May Bank Holiday | L19: 46538 | M19: BH | N19: =IF(AND(Sheet1!$A$27="MSD Taken",M19="BH"),0,(IF(AND(L19>=Sheet1!$B$20,L19<=Sheet1!$B$21),VLOOKUP(O19,Sheet1!$A$13:$B$17,2,FALSE),0))) -> 0 | O19: =TEXT(L19,"dddd") -> Monday
C20: =Sheet1!B21-Sheet1!B20+1 -> 1 | K20: August Bank Holiday | L20: 46629 | M20: BH | N20: =IF(AND(Sheet1!$A$27="MSD Taken",M20="BH"),0,(IF(AND(L20>=Sheet1!$B$20,L20<=Sheet1!$B$21),VLOOKUP(O20,Sheet1!$A$13:$B$17,2,FALSE),0))) -> 0 | O20: =TEXT(L20,"dddd") -> Monday
M21: Total | N21: =SUM(N6:N20) -> 0
C22: Full Time Hours
C23: =(_xlfn.XLOOKUP(Sheet1!B8,B2:B8,A2:A8)*5) -> #N/A
C25: Months Worked | D25: Days | E25: Average (Day)
C26: =MONTH(Sheet1!B21-Sheet1!B20) -> 1 | D26: =COUNTIF(Sheet1!B13:B17,">0") -> 0 | E26: =Sheet1!B18/Sheet2!D26 -> #DIV/0!
