BEGIN:VCALENDAR
PRODID:-//University of Sussex//NONSGML Broadcast//EN
VERSION:2.0
CALSCALE:GREGORIAN
METHOD:PUBLISH
BEGIN:VTIMEZONE
TZID:Europe/London
X-LIC-LOCATION:Europe/London
BEGIN:DAYLIGHT
DTSTART:19700329T010000
TZOFFSETFROM:+0000
TZNAME:BST
TZOFFSETTO:+0100
RRULE:FREQ=YEARLY;BYMONTH=3;BYDAY=-1SU
END:DAYLIGHT
BEGIN:STANDARD
DTSTART:19701025T020000
TZOFFSETFROM:+0100
TZNAME:GMT
TZOFFSETTO:+0000
RRULE:FREQ=YEARLY;BYMONTH=10;BYDAY=-1SU
END:STANDARD
END:VTIMEZONE
BEGIN:VEVENT
DTSTAMP:20260521T090000Z
DTSTART;TZID=Europe/London:20260521T090000
DTEND;TZID=Europe/London:20260521T170000
SUMMARY:British Society for Phenomenology Annual Conference 2026: Heidegger 50 Years On
DESCRIPTION:The Philosophy Department at the University of Sussex is delighted to be hosting the annual conference of the British Society for Phenomenology.
UID:https://www.sussex.ac.uk/broadcast/read/70569
LOCATION:University of Sussex Campus
TRANSP:TRANSPARENT
STATUS:CONFIRMED
CLASS:PUBLIC
END:VEVENT
END:VCALENDAR
