BEGIN:VCALENDAR
PRODID:-//University of Sussex//NONSGML Broadcast//EN
VERSION:2.0
CALSCALE:GREGORIAN
METHOD:PUBLISH
BEGIN:VTIMEZONE
TZID:Europe/London
X-LIC-LOCATION:Europe/London
BEGIN:DAYLIGHT
DTSTART:19700329T010000
TZOFFSETFROM:+0000
TZNAME:BST
TZOFFSETTO:+0100
RRULE:FREQ=YEARLY;BYMONTH=3;BYDAY=-1SU
END:DAYLIGHT
BEGIN:STANDARD
DTSTART:19701025T020000
TZOFFSETFROM:+0100
TZNAME:GMT
TZOFFSETTO:+0000
RRULE:FREQ=YEARLY;BYMONTH=10;BYDAY=-1SU
END:STANDARD
END:VTIMEZONE
BEGIN:VEVENT
DTSTAMP:20260520T140000Z
DTSTART;TZID=Europe/London:20260520T140000
DTEND;TZID=Europe/London:20260520T150000
SUMMARY:Neurodiversity – ADHD, Autism, Dyslexia Webinar
DESCRIPTION:As diagnosing has gotten more accurate and widespread, neurodivergence has become a part of everyday life. But what does this really mean? Come along...
UID:https://www.sussex.ac.uk/broadcast/read/70322
LOCATION:Online
TRANSP:TRANSPARENT
STATUS:CONFIRMED
CLASS:PUBLIC
END:VEVENT
END:VCALENDAR
