BEGIN:VCALENDAR
PRODID:-//University of Sussex//NONSGML Broadcast//EN
VERSION:2.0
CALSCALE:GREGORIAN
METHOD:PUBLISH
BEGIN:VTIMEZONE
TZID:Europe/London
X-LIC-LOCATION:Europe/London
BEGIN:DAYLIGHT
DTSTART:19700329T010000
TZOFFSETFROM:+0000
TZNAME:BST
TZOFFSETTO:+0100
RRULE:FREQ=YEARLY;BYMONTH=3;BYDAY=-1SU
END:DAYLIGHT
BEGIN:STANDARD
DTSTART:19701025T020000
TZOFFSETFROM:+0100
TZNAME:GMT
TZOFFSETTO:+0000
RRULE:FREQ=YEARLY;BYMONTH=10;BYDAY=-1SU
END:STANDARD
END:VTIMEZONE
BEGIN:VEVENT
DTSTAMP:20260428T130000Z
DTSTART;TZID=Europe/London:20260428T130000
DTEND;TZID=Europe/London:20260428T140000
SUMMARY:Critical Minerals and Green Megawatts: China's Influence on Energy Transition in the Global South
DESCRIPTION:Join us for this week's Energy & Climate Seminar with Wei Shen discussing China's influence on energy transition in the Global South
UID:https://www.sussex.ac.uk/broadcast/read/70507
LOCATION:University of Sussex Campus
TRANSP:TRANSPARENT
STATUS:CONFIRMED
CLASS:PUBLIC
END:VEVENT
END:VCALENDAR
